BEGIN:VCALENDAR
VERSION:2.0
PRODID:-//Tukios.com/
BEGIN:VEVENT
UID:a35b6b06-c476-4d2e-8c2c-6fb87c1d007b@www.curriejefferson.com
DTSTAMP:20260420T214436Z
DTSTART:20260423T050000Z
DTEND:20260423T180000Z
SUMMARY:Public Viewing
DESCRIPTION:
URL:https://www.curriejefferson.com/obituaries/roy-ellas
LOCATION:Currie-Jefferson Funeral Home     
GEO:0;0
END:VEVENT
END:VCALENDAR