BEGIN:VCALENDAR
VERSION:2.0
PRODID:-//Tukios.com/
BEGIN:VEVENT
UID:ccab41ad-94d3-4a67-8d1e-39c2c569a7be@www.curriejefferson.com
DTSTAMP:20260420T214451Z
DTSTART:20260423T180000Z
DTEND:20260423T190000Z
SUMMARY:Funeral Service
DESCRIPTION:
URL:https://www.curriejefferson.com/obituaries/roy-ellas
LOCATION:Currie-Jefferson Funeral Home     
GEO:0;0
END:VEVENT
END:VCALENDAR