BEGIN:VCALENDAR
VERSION:2.0
PRODID:-//Tukios.com/
BEGIN:VEVENT
UID:753f1c9a-f175-46bf-b971-1835328e23c5@www.curriejefferson.com
DTSTAMP:20260424T014417Z
DTSTART:20260425T190000Z
DTEND:20260425T200000Z
SUMMARY:Prayer Service
DESCRIPTION:
URL:https://www.curriejefferson.com/obituaries/amora-lawson
LOCATION: 2701 John Hawkins Pkwy  Hoover AL 35244
GEO:33.3603395;-86.8323309
END:VEVENT
END:VCALENDAR